BEGIN:VCALENDAR
VERSION:2.0
PRODID:spatie/icalendar-generator
DESCRIPTION:Events from Amazing Grace
X-WR-CALDESC:Events from Amazing Grace
REFRESH-INTERVAL;VALUE=DURATION:PT1440M
X-PUBLISHED-TTL:PT1440M
BEGIN:VTIMEZONE
TZID:America/Phoenix
BEGIN:STANDARD
DTSTART:20250823T130000Z
TZOFFSETFROM:-0700
TZOFFSETTO:-0700
END:STANDARD
END:VTIMEZONE
BEGIN:VTIMEZONE
TZID:UTC
BEGIN:STANDARD
DTSTART:20250727T170238Z
TZOFFSETFROM:+0000
TZOFFSETTO:+0000
END:STANDARD
END:VTIMEZONE
BEGIN:VEVENT
UID:2114-32
DTSTAMP:20260423T170238Z
SUMMARY:Presbyterian Women
LOCATION:
ORGANIZER;CN=Kathleen Griffin:MAILTO:Pastorkgriffin@outlook.com
RRULE:FREQ=MONTHLY;BYDAY=3WE;UNTIL=20271215T000000Z
DTSTART;TZID=America/Phoenix:20260520T130000
DTEND;TZID=America/Phoenix:20260520T150000
X-ALT-DESC;FMTTYPE=TEXT/HTML:Presbyterian Women meets for a monthly Bible S
 tudy - All are Welcome. They also do Mission in ministry together.
CATEGORIES:amazing grace
URL;VALUE=URI:https://amazinggracepcaj.org/mc-events/presbyterian-women/?mc
 _id=2114
METHOD:PUBLISH
END:VEVENT
END:VCALENDAR