BEGIN:VCALENDAR
VERSION:2.0
PRODID:spatie/icalendar-generator
DESCRIPTION:Events from Amazing Grace
X-WR-CALDESC:Events from Amazing Grace
REFRESH-INTERVAL;VALUE=DURATION:PT1440M
X-PUBLISHED-TTL:PT1440M
BEGIN:VTIMEZONE
TZID:America/Phoenix
BEGIN:STANDARD
DTSTART:20250818T133000Z
TZOFFSETFROM:-0700
TZOFFSETTO:-0700
END:STANDARD
END:VTIMEZONE
BEGIN:VTIMEZONE
TZID:UTC
BEGIN:STANDARD
DTSTART:20250727T170156Z
TZOFFSETFROM:+0000
TZOFFSETTO:+0000
END:STANDARD
END:VTIMEZONE
BEGIN:VEVENT
UID:1900-13
DTSTAMP:20260423T170156Z
SUMMARY:Worship Team
LOCATION:
ORGANIZER;CN=Kathleen Griffin:MAILTO:Pastorkgriffin@outlook.com
RRULE:FREQ=MONTHLY;BYDAY=3FR;UNTIL=20261218T000000Z
DTSTART;TZID=America/Phoenix:20260515T133000
DTEND;TZID=America/Phoenix:20260515T143000
X-ALT-DESC;FMTTYPE=TEXT/HTML:Meeting in the Pastor's Office. Plan Worship i
 ncluding selection of Hymns\,
CATEGORIES:amazing grace
URL;VALUE=URI:https://amazinggracepcaj.org/mc-events/worship-team/?mc_id=19
 00
METHOD:PUBLISH
END:VEVENT
END:VCALENDAR