BEGIN:VCALENDAR
VERSION:2.0
PRODID:spatie/icalendar-generator
DESCRIPTION:Events from Amazing Grace
X-WR-CALDESC:Events from Amazing Grace
REFRESH-INTERVAL;VALUE=DURATION:PT1440M
X-PUBLISHED-TTL:PT1440M
BEGIN:VTIMEZONE
TZID:America/Phoenix
BEGIN:STANDARD
DTSTART:20250711T133000Z
TZOFFSETFROM:-0700
TZOFFSETTO:-0700
END:STANDARD
END:VTIMEZONE
BEGIN:VTIMEZONE
TZID:UTC
BEGIN:STANDARD
DTSTART:20250727T153718Z
TZOFFSETFROM:+0000
TZOFFSETTO:+0000
END:STANDARD
END:VTIMEZONE
BEGIN:VEVENT
UID:2218-33
DTSTAMP:20260423T153718Z
SUMMARY:Hospitality Team
LOCATION:
ORGANIZER;CN=Kathleen Griffin:MAILTO:Pastorkgriffin@outlook.com
RRULE:FREQ=MONTHLY;BYDAY=1TU;UNTIL=20271207T000000Z
DTSTART;TZID=America/Phoenix:20260407T133000
DTEND;TZID=America/Phoenix:20260407T143000
X-ALT-DESC;FMTTYPE=TEXT/HTML:The Hospitality Team is the Welcome Ministry o
 f AGPC. They are involved in Training of Volunteers and Welcoming of New M
 embers.
CATEGORIES:service
URL;VALUE=URI:https://amazinggracepcaj.org/mc-events/hospitality-team-2/?mc
 _id=2218
METHOD:PUBLISH
END:VEVENT
END:VCALENDAR