BEGIN:VCALENDAR
VERSION:2.0
PRODID:spatie/icalendar-generator
DESCRIPTION:Events from Amazing Grace
X-WR-CALDESC:Events from Amazing Grace
REFRESH-INTERVAL;VALUE=DURATION:PT1440M
X-PUBLISHED-TTL:PT1440M
BEGIN:VTIMEZONE
TZID:America/Phoenix
BEGIN:STANDARD
DTSTART:20250728T100000Z
TZOFFSETFROM:-0700
TZOFFSETTO:-0700
END:STANDARD
END:VTIMEZONE
BEGIN:VTIMEZONE
TZID:UTC
BEGIN:STANDARD
DTSTART:20250727T153319Z
TZOFFSETFROM:+0000
TZOFFSETTO:+0000
END:STANDARD
END:VTIMEZONE
BEGIN:VEVENT
UID:2155-9
DTSTAMP:20260423T153319Z
SUMMARY:PBJ for the Homeless
LOCATION:Amazing Grace Presbyterian Church 1130 E Broadway Ave  Apache Junc
 tion AZ 85119
ORGANIZER;CN=Kathleen Griffin:MAILTO:Pastorkgriffin@outlook.com
RRULE:FREQ=MONTHLY;BYDAY=4FR;UNTIL=20271224T000000Z
DTSTART;TZID=America/Phoenix:20260424T100000
DTEND;TZID=America/Phoenix:20260424T120000
X-ALT-DESC;FMTTYPE=TEXT/HTML:
CATEGORIES:amazing grace
URL;VALUE=URI:https://amazinggracepcaj.org/mc-events/pbj-for-the-homeless/?
 mc_id=2155
METHOD:PUBLISH
END:VEVENT
END:VCALENDAR