BEGIN:VCALENDAR
VERSION:2.0
PRODID:spatie/icalendar-generator
DESCRIPTION:Events from Amazing Grace
X-WR-CALDESC:Events from Amazing Grace
REFRESH-INTERVAL;VALUE=DURATION:PT1440M
X-PUBLISHED-TTL:PT1440M
BEGIN:VTIMEZONE
TZID:America/Phoenix
BEGIN:STANDARD
DTSTART:20240628T103000Z
TZOFFSETFROM:-0700
TZOFFSETTO:-0700
END:STANDARD
END:VTIMEZONE
BEGIN:VTIMEZONE
TZID:UTC
BEGIN:STANDARD
DTSTART:20250727T184050Z
TZOFFSETFROM:+0000
TZOFFSETTO:+0000
END:STANDARD
END:VTIMEZONE
BEGIN:VEVENT
UID:2068-27
DTSTAMP:20260423T184050Z
SUMMARY:Barro's Pizza Fundraiser
LOCATION:
ORGANIZER;CN=Kathleen Griffin:MAILTO:Pastorkgriffin@outlook.com
RRULE:FREQ=MONTHLY;BYDAY=4TU;UNTIL=20271228T000000Z
DTSTART;TZID=America/Phoenix:20250325T103000
DTEND;TZID=America/Phoenix:20250325T230000
X-ALT-DESC;FMTTYPE=TEXT/HTML:Come to Barro's Pizza on the fourth Tuesday of
  Every month\, mention \"Amazing Grace Fundraiser.\" Invite your friends f
 or fellowship and pizza either in house or to your home. Hospitality Extra
 ordinaire!  Let's make the day fun!
CATEGORIES:amazing grace
URL;VALUE=URI:https://amazinggracepcaj.org/mc-events/barros-pizza-fundraise
 r/?mc_id=2068
METHOD:PUBLISH
END:VEVENT
END:VCALENDAR