BEGIN:VCALENDAR
VERSION:2.0
PRODID:spatie/icalendar-generator
DESCRIPTION:Events from Amazing Grace
X-WR-CALDESC:Events from Amazing Grace
REFRESH-INTERVAL;VALUE=DURATION:PT1440M
X-PUBLISHED-TTL:PT1440M
BEGIN:VTIMEZONE
TZID:America/Phoenix
BEGIN:STANDARD
DTSTART:20250703T080000Z
TZOFFSETFROM:-0700
TZOFFSETTO:-0700
END:STANDARD
END:VTIMEZONE
BEGIN:VTIMEZONE
TZID:UTC
BEGIN:STANDARD
DTSTART:20250727T154956Z
TZOFFSETFROM:+0000
TZOFFSETTO:+0000
END:STANDARD
END:VTIMEZONE
BEGIN:VEVENT
UID:1995-19
DTSTAMP:20260423T154956Z
SUMMARY:Counting Team
LOCATION:
ORGANIZER;CN=Kathleen Griffin:MAILTO:Pastorkgriffin@outlook.com
RRULE:FREQ=WEEKLY;UNTIL=20261228T000000Z
DTSTART;TZID=America/Phoenix:20260330T080000
DTEND;TZID=America/Phoenix:20260330T093000
X-ALT-DESC;FMTTYPE=TEXT/HTML:Meeting Monday or Tuesday Mornings for Service
CATEGORIES:fundraiser,  service
URL;VALUE=URI:https://amazinggracepcaj.org/mc-events/counting-team/?mc_id=1
 995
METHOD:PUBLISH
END:VEVENT
END:VCALENDAR