BEGIN:VCALENDAR
VERSION:2.0
PRODID:spatie/icalendar-generator
DESCRIPTION:Events from Amazing Grace
X-WR-CALDESC:Events from Amazing Grace
REFRESH-INTERVAL;VALUE=DURATION:PT1440M
X-PUBLISHED-TTL:PT1440M
BEGIN:VTIMEZONE
TZID:America/Phoenix
BEGIN:STANDARD
DTSTART:20241214T130000Z
TZOFFSETFROM:-0700
TZOFFSETTO:-0700
END:STANDARD
END:VTIMEZONE
BEGIN:VTIMEZONE
TZID:UTC
BEGIN:STANDARD
DTSTART:20250727T183651Z
TZOFFSETFROM:+0000
TZOFFSETTO:+0000
END:STANDARD
END:VTIMEZONE
BEGIN:VEVENT
UID:1830-11
DTSTAMP:20260423T183651Z
SUMMARY:Session
LOCATION:Amazing Grace Presbyterian Church 1130 E Broadway Ave  Apache Junc
 tion AZ 85119
ORGANIZER;CN=Public Submitter:MAILTO:
RRULE:FREQ=MONTHLY;BYDAY=2WE;UNTIL=20261209T000000Z
DTSTART;TZID=America/Phoenix:20250910T130000
DTEND;TZID=America/Phoenix:20250910T153000
X-ALT-DESC;FMTTYPE=TEXT/HTML:
CATEGORIES:amazing grace
URL;VALUE=URI:https://amazinggracepcaj.org/mc-events/session/?mc_id=1830
METHOD:PUBLISH
END:VEVENT
END:VCALENDAR